BEGIN:VCALENDAR
VERSION:2.0
PRODID:-//Stoney Brook Homeowners’ Association, Inc. - ECPv6.15.20//NONSGML v1.0//EN
CALSCALE:GREGORIAN
METHOD:PUBLISH
X-WR-CALNAME:Stoney Brook Homeowners’ Association, Inc.
X-ORIGINAL-URL:https://sbhoa.org
X-WR-CALDESC:Events for Stoney Brook Homeowners’ Association, Inc.
REFRESH-INTERVAL;VALUE=DURATION:PT1H
X-Robots-Tag:noindex
X-PUBLISHED-TTL:PT1H
BEGIN:VTIMEZONE
TZID:America/Denver
BEGIN:DAYLIGHT
TZOFFSETFROM:-0700
TZOFFSETTO:-0600
TZNAME:MDT
DTSTART:20250309T090000
END:DAYLIGHT
BEGIN:STANDARD
TZOFFSETFROM:-0600
TZOFFSETTO:-0700
TZNAME:MST
DTSTART:20251102T080000
END:STANDARD
BEGIN:DAYLIGHT
TZOFFSETFROM:-0700
TZOFFSETTO:-0600
TZNAME:MDT
DTSTART:20260308T090000
END:DAYLIGHT
BEGIN:STANDARD
TZOFFSETFROM:-0600
TZOFFSETTO:-0700
TZNAME:MST
DTSTART:20261101T080000
END:STANDARD
BEGIN:DAYLIGHT
TZOFFSETFROM:-0700
TZOFFSETTO:-0600
TZNAME:MDT
DTSTART:20270314T090000
END:DAYLIGHT
BEGIN:STANDARD
TZOFFSETFROM:-0600
TZOFFSETTO:-0700
TZNAME:MST
DTSTART:20271107T080000
END:STANDARD
END:VTIMEZONE
BEGIN:VEVENT
DTSTART;TZID=America/Denver:20260422T183000
DTEND;TZID=America/Denver:20260422T203000
DTSTAMP:20260424T163156
CREATED:20260130T201432Z
LAST-MODIFIED:20260420T230111Z
UID:10000979-1776882600-1776889800@sbhoa.org
SUMMARY:April Board Meeting
DESCRIPTION:Clubhouse or via Zoom at 6:30pm \nApril Board Meeting Zoom Link \nMeeting ID: 848 2157 4793\nPasscode: 384598 \nApril 22 2026 Agenda
URL:https://sbhoa.org/event/april-board-meeting/
LOCATION:Clubhouse\, 4601 S Yosemite St\, Denver\, CO\, 80237\, United States
CATEGORIES:Meeting
ORGANIZER;CN="Stoney Brook HOA":MAILTO:sboffice@msn.com
END:VEVENT
BEGIN:VEVENT
DTSTART;VALUE=DATE:20260418
DTEND;VALUE=DATE:20260419
DTSTAMP:20260424T163156
CREATED:20260311T005811Z
LAST-MODIFIED:20260311T005812Z
UID:10001034-1776470400-1776556799@sbhoa.org
SUMMARY:Clubhouse Reserved – Private Event
DESCRIPTION:
URL:https://sbhoa.org/event/clubhouse-reserved-private-event-5/
LOCATION:Clubhouse\, 4601 S Yosemite St\, Denver\, CO\, 80237\, United States
CATEGORIES:Private Event
END:VEVENT
BEGIN:VEVENT
DTSTART;TZID=America/Denver:20260416T093000
DTEND;TZID=America/Denver:20260416T110000
DTSTAMP:20260424T163156
CREATED:20260413T143623Z
LAST-MODIFIED:20260413T151929Z
UID:10001042-1776331800-1776337200@sbhoa.org
SUMMARY:Election Committee Meeting
DESCRIPTION:Clubhouse
URL:https://sbhoa.org/event/election-committee-meeting/
LOCATION:Clubhouse\, 4601 S Yosemite St\, Denver\, CO\, 80237\, United States
CATEGORIES:Meeting
END:VEVENT
BEGIN:VEVENT
DTSTART;TZID=America/Denver:20260402T160000
DTEND;TZID=America/Denver:20260402T170000
DTSTAMP:20260424T163156
CREATED:20260206T160148Z
LAST-MODIFIED:20260206T160148Z
UID:10001005-1775145600-1775149200@sbhoa.org
SUMMARY:SBHOA - ARC Meeting
DESCRIPTION:
URL:https://sbhoa.org/event/sbhoa-arc-meeting-2/
LOCATION:Clubhouse\, 4601 S Yosemite St\, Denver\, CO\, 80237\, United States
CATEGORIES:Meeting
END:VEVENT
BEGIN:VEVENT
DTSTART;TZID=America/Denver:20260325T183000
DTEND;TZID=America/Denver:20260325T203000
DTSTAMP:20260424T163156
CREATED:20260130T195300Z
LAST-MODIFIED:20260325T142216Z
UID:10000978-1774463400-1774470600@sbhoa.org
SUMMARY:March Board Meeting
DESCRIPTION:Clubhouse or via Zoom\n\nMarch Board Agenda\n\nJoin Zoom Meeting\nhttps://us02web.zoom.us/j/85675359042?pwd=1oVRgFkvfrSKtaCGs5aZcd9GpnQHER.1\n\nMeeting ID: 856 7535 9042\nPasscode: 336190
URL:https://sbhoa.org/event/march-board-meeting/
LOCATION:Clubhouse\, 4601 S Yosemite St\, Denver\, CO\, 80237\, United States
CATEGORIES:Meeting
ORGANIZER;CN="Stoney Brook HOA":MAILTO:sboffice@msn.com
END:VEVENT
BEGIN:VEVENT
DTSTART;TZID=America/Denver:20260311T163000
DTEND;TZID=America/Denver:20260311T173000
DTSTAMP:20260424T163156
CREATED:20260205T163210Z
LAST-MODIFIED:20260205T163840Z
UID:10000996-1773246600-1773250200@sbhoa.org
SUMMARY:SBHOA - Social Committee Meeting
DESCRIPTION:
URL:https://sbhoa.org/event/sbhoa-social-committee-meeting/
LOCATION:Clubhouse\, 4601 S Yosemite St\, Denver\, CO\, 80237\, United States
CATEGORIES:Meeting
END:VEVENT
BEGIN:VEVENT
DTSTART;TZID=America/Denver:20260305T160000
DTEND;TZID=America/Denver:20260305T170000
DTSTAMP:20260424T163156
CREATED:20260206T160118Z
LAST-MODIFIED:20260206T160118Z
UID:10001004-1772726400-1772730000@sbhoa.org
SUMMARY:SBHOA - ARC Meeting
DESCRIPTION:
URL:https://sbhoa.org/event/sbhoa-arc-meeting/
LOCATION:Clubhouse\, 4601 S Yosemite St\, Denver\, CO\, 80237\, United States
CATEGORIES:Meeting
END:VEVENT
BEGIN:VEVENT
DTSTART;TZID=America/Denver:20260225T183000
DTEND;TZID=America/Denver:20260225T203000
DTSTAMP:20260424T163156
CREATED:20260130T195038Z
LAST-MODIFIED:20260224T012547Z
UID:10000977-1772044200-1772051400@sbhoa.org
SUMMARY:February Board Meeting
DESCRIPTION:February Board Meeting Agenda \nClubhouse or via Zoom \nJoin Zoom Meeting\nhttps://us02web.zoom.us/j/84781178963?pwd=a1Y67qWR8rJPlzidbeGIbvs3QPG57i.1 \nMeeting ID: 847 8117 8963\nPasscode: 751866
URL:https://sbhoa.org/event/february-board-meeting/
LOCATION:Clubhouse\, 4601 S Yosemite St\, Denver\, CO\, 80237\, United States
CATEGORIES:Meeting
ORGANIZER;CN="Stoney Brook HOA":MAILTO:sboffice@msn.com
END:VEVENT
BEGIN:VEVENT
DTSTART;TZID=America/Denver:20260220T100000
DTEND;TZID=America/Denver:20260220T120000
DTSTAMP:20260424T163156
CREATED:20260212T203700Z
LAST-MODIFIED:20260212T203700Z
UID:10001025-1771581600-1771588800@sbhoa.org
SUMMARY:SBHOA - Projects Meeting
DESCRIPTION:
URL:https://sbhoa.org/event/sbhoa-projects-meeting/
LOCATION:Clubhouse\, 4601 S Yosemite St\, Denver\, CO\, 80237\, United States
CATEGORIES:Meeting
ORGANIZER;CN="Stoney Brook HOA":MAILTO:sboffice@msn.com
END:VEVENT
BEGIN:VEVENT
DTSTART;TZID=America/Denver:20260217T143000
DTEND;TZID=America/Denver:20260217T163000
DTSTAMP:20260424T163156
CREATED:20260202T163014Z
LAST-MODIFIED:20260202T163014Z
UID:10000988-1771338600-1771345800@sbhoa.org
SUMMARY:Compensation Meeting
DESCRIPTION:
URL:https://sbhoa.org/event/compensation-meeting/
LOCATION:Clubhouse\, 4601 S Yosemite St\, Denver\, CO\, 80237\, United States
END:VEVENT
BEGIN:VEVENT
DTSTART;TZID=America/Denver:20260213T130000
DTEND;TZID=America/Denver:20260213T150000
DTSTAMP:20260424T163156
CREATED:20260212T203747Z
LAST-MODIFIED:20260212T203747Z
UID:10001026-1770987600-1770994800@sbhoa.org
SUMMARY:SBHOA - Landscape Meeting
DESCRIPTION:
URL:https://sbhoa.org/event/sbhoa-landscape-meeting/
LOCATION:Clubhouse\, 4601 S Yosemite St\, Denver\, CO\, 80237\, United States
CATEGORIES:Meeting
ORGANIZER;CN="Stoney Brook HOA":MAILTO:sboffice@msn.com
END:VEVENT
BEGIN:VEVENT
DTSTART;TZID=America/Denver:20260212T123000
DTEND;TZID=America/Denver:20260212T153000
DTSTAMP:20260424T163156
CREATED:20260206T175159Z
LAST-MODIFIED:20260206T175159Z
UID:10001013-1770899400-1770910200@sbhoa.org
SUMMARY:Clubhouse private event
DESCRIPTION:
URL:https://sbhoa.org/event/clubhouse-private-event/
LOCATION:Clubhouse\, 4601 S Yosemite St\, Denver\, CO\, 80237\, United States
CATEGORIES:Private Event
END:VEVENT
BEGIN:VEVENT
DTSTART;TZID=America/Denver:20260210T163000
DTEND;TZID=America/Denver:20260210T183000
DTSTAMP:20260424T163156
CREATED:20260205T164610Z
LAST-MODIFIED:20260205T164610Z
UID:10001002-1770741000-1770748200@sbhoa.org
SUMMARY:SBHOA - Girl's Night Out
DESCRIPTION:
URL:https://sbhoa.org/event/sbhoa-girls-night-out/
LOCATION:Clubhouse\, 4601 S Yosemite St\, Denver\, CO\, 80237\, United States
END:VEVENT
BEGIN:VEVENT
DTSTART;TZID=America/Denver:20260210T100000
DTEND;TZID=America/Denver:20260210T120000
DTSTAMP:20260424T163156
CREATED:20260116T151238Z
LAST-MODIFIED:20260116T151238Z
UID:10000973-1770717600-1770724800@sbhoa.org
SUMMARY:Book Club
DESCRIPTION:Clubhouse
URL:https://sbhoa.org/event/book-club/
LOCATION:Clubhouse\, 4601 S Yosemite St\, Denver\, CO\, 80237\, United States
END:VEVENT
BEGIN:VEVENT
DTSTART;TZID=America/Denver:20260129T183000
DTEND;TZID=America/Denver:20260129T203000
DTSTAMP:20260424T163156
CREATED:20260120T171016Z
LAST-MODIFIED:20260120T171712Z
UID:10000975-1769711400-1769718600@sbhoa.org
SUMMARY:January Board Meeting
DESCRIPTION:January Board Meeting - 6:30 p.m.\n\nClubhouse or via Zoom \nJoin Zoom Meeting\nhttps://us02web.zoom.us/j/86456457488?pwd=4bmKvndFCy1D7tpwkvGydsNvLv9XFE.1\n\nMeeting ID: 864 5645 7488\nPasscode: 339450
URL:https://sbhoa.org/event/january-board-meeting/
LOCATION:Clubhouse\, 4601 S Yosemite St\, Denver\, CO\, 80237\, United States
END:VEVENT
BEGIN:VEVENT
DTSTART;TZID=America/Denver:20260128T183000
DTEND;TZID=America/Denver:20260128T210000
DTSTAMP:20260424T163156
CREATED:20251115T214858Z
LAST-MODIFIED:20260124T203247Z
UID:10000958-1769625000-1769634000@sbhoa.org
SUMMARY:2025 Annual Meeting
DESCRIPTION:2025 Annual Mtg Agenda\n\n2025 Annual Meeting 6:30 p.m. at the Clubhouse or via Zoom\n\nhttps://us02web.zoom.us/j/82923731005?pwd=vn46Ym5sPdwKbtVcE2UHCfteOrJFJZ.1\n\npasscode: 094688
URL:https://sbhoa.org/event/4063/
LOCATION:Clubhouse\, 4601 S Yosemite St\, Denver\, CO\, 80237\, United States
CATEGORIES:Meeting
END:VEVENT
BEGIN:VEVENT
DTSTART;VALUE=DATE:20260125
DTEND;VALUE=DATE:20260126
DTSTAMP:20260424T163156
CREATED:20260112T220018Z
LAST-MODIFIED:20260112T220018Z
UID:10000968-1769299200-1769385599@sbhoa.org
SUMMARY:Clubhouse Reserved - Private Event
DESCRIPTION:
URL:https://sbhoa.org/event/clubhouse-reserved-private-event/
LOCATION:Clubhouse\, 4601 S Yosemite St\, Denver\, CO\, 80237\, United States
CATEGORIES:Private Event
END:VEVENT
END:VCALENDAR