BEGIN:VCALENDAR
VERSION:2.0
PRODID:-//Stoney Brook Homeowners’ Association, Inc. - ECPv6.15.20//NONSGML v1.0//EN
CALSCALE:GREGORIAN
METHOD:PUBLISH
X-ORIGINAL-URL:https://sbhoa.org
X-WR-CALDESC:Events for Stoney Brook Homeowners’ Association, Inc.
REFRESH-INTERVAL;VALUE=DURATION:PT1H
X-Robots-Tag:noindex
X-PUBLISHED-TTL:PT1H
BEGIN:VTIMEZONE
TZID:America/Denver
BEGIN:DAYLIGHT
TZOFFSETFROM:-0700
TZOFFSETTO:-0600
TZNAME:MDT
DTSTART:20250309T090000
END:DAYLIGHT
BEGIN:STANDARD
TZOFFSETFROM:-0600
TZOFFSETTO:-0700
TZNAME:MST
DTSTART:20251102T080000
END:STANDARD
BEGIN:DAYLIGHT
TZOFFSETFROM:-0700
TZOFFSETTO:-0600
TZNAME:MDT
DTSTART:20260308T090000
END:DAYLIGHT
BEGIN:STANDARD
TZOFFSETFROM:-0600
TZOFFSETTO:-0700
TZNAME:MST
DTSTART:20261101T080000
END:STANDARD
BEGIN:DAYLIGHT
TZOFFSETFROM:-0700
TZOFFSETTO:-0600
TZNAME:MDT
DTSTART:20270314T090000
END:DAYLIGHT
BEGIN:STANDARD
TZOFFSETFROM:-0600
TZOFFSETTO:-0700
TZNAME:MST
DTSTART:20271107T080000
END:STANDARD
END:VTIMEZONE
BEGIN:VEVENT
DTSTART;TZID=America/Denver:20260210T163000
DTEND;TZID=America/Denver:20260210T183000
DTSTAMP:20260424T185734
CREATED:20260205T164610Z
LAST-MODIFIED:20260205T164610Z
UID:10001002-1770741000-1770748200@sbhoa.org
SUMMARY:SBHOA - Girl's Night Out
DESCRIPTION:
URL:https://sbhoa.org/event/sbhoa-girls-night-out/
LOCATION:Clubhouse\, 4601 S Yosemite St\, Denver\, CO\, 80237\, United States
END:VEVENT
BEGIN:VEVENT
DTSTART;TZID=America/Denver:20260210T100000
DTEND;TZID=America/Denver:20260210T120000
DTSTAMP:20260424T185734
CREATED:20260116T151238Z
LAST-MODIFIED:20260116T151238Z
UID:10000973-1770717600-1770724800@sbhoa.org
SUMMARY:Book Club
DESCRIPTION:Clubhouse
URL:https://sbhoa.org/event/book-club/
LOCATION:Clubhouse\, 4601 S Yosemite St\, Denver\, CO\, 80237\, United States
END:VEVENT
BEGIN:VEVENT
DTSTART;TZID=America/Denver:20260129T183000
DTEND;TZID=America/Denver:20260129T203000
DTSTAMP:20260424T185734
CREATED:20260120T171016Z
LAST-MODIFIED:20260120T171712Z
UID:10000975-1769711400-1769718600@sbhoa.org
SUMMARY:January Board Meeting
DESCRIPTION:January Board Meeting - 6:30 p.m.\n\nClubhouse or via Zoom \nJoin Zoom Meeting\nhttps://us02web.zoom.us/j/86456457488?pwd=4bmKvndFCy1D7tpwkvGydsNvLv9XFE.1\n\nMeeting ID: 864 5645 7488\nPasscode: 339450
URL:https://sbhoa.org/event/january-board-meeting/
LOCATION:Clubhouse\, 4601 S Yosemite St\, Denver\, CO\, 80237\, United States
END:VEVENT
BEGIN:VEVENT
DTSTART;TZID=America/Denver:20260128T183000
DTEND;TZID=America/Denver:20260128T210000
DTSTAMP:20260424T185734
CREATED:20251115T214858Z
LAST-MODIFIED:20260124T203247Z
UID:10000958-1769625000-1769634000@sbhoa.org
SUMMARY:2025 Annual Meeting
DESCRIPTION:2025 Annual Mtg Agenda\n\n2025 Annual Meeting 6:30 p.m. at the Clubhouse or via Zoom\n\nhttps://us02web.zoom.us/j/82923731005?pwd=vn46Ym5sPdwKbtVcE2UHCfteOrJFJZ.1\n\npasscode: 094688
URL:https://sbhoa.org/event/4063/
LOCATION:Clubhouse\, 4601 S Yosemite St\, Denver\, CO\, 80237\, United States
CATEGORIES:Meeting
END:VEVENT
BEGIN:VEVENT
DTSTART;VALUE=DATE:20260125
DTEND;VALUE=DATE:20260126
DTSTAMP:20260424T185734
CREATED:20260112T220018Z
LAST-MODIFIED:20260112T220018Z
UID:10000968-1769299200-1769385599@sbhoa.org
SUMMARY:Clubhouse Reserved - Private Event
DESCRIPTION:
URL:https://sbhoa.org/event/clubhouse-reserved-private-event/
LOCATION:Clubhouse\, 4601 S Yosemite St\, Denver\, CO\, 80237\, United States
CATEGORIES:Private Event
END:VEVENT
END:VCALENDAR